BEGIN:VCALENDAR
VERSION:2.0
PRODID:icalendar-ruby
CALSCALE:GREGORIAN
METHOD:PUBLISH
BEGIN:VEVENT
DTSTAMP:20260419T152138Z
UID:5-265386@thepursuitfamily.com
DTSTART:20251207T153000Z
DTEND:20251207T173000Z
CLASS:PUBLIC
CREATED:20260419T081614
DESCRIPTION:Sunday Worship
LAST-MODIFIED:20260419T081614
LOCATION:
SUMMARY:Sunday Worship
URL;VALUE=URI:https://www.thepursuitfamily.com/events/sunday-worship/2025-1
 2-07
END:VEVENT
END:VCALENDAR
