BEGIN:VCALENDAR
VERSION:2.0
PRODID:icalendar-ruby
CALSCALE:GREGORIAN
METHOD:PUBLISH
BEGIN:VEVENT
DTSTAMP:20260419T181038Z
UID:5-265573@thepursuitfamily.com
DTSTART:20251221T153000Z
DTEND:20251221T173000Z
CLASS:PUBLIC
CREATED:20260419T115816
DESCRIPTION:Sunday Worship
LAST-MODIFIED:20260419T115816
LOCATION:
SUMMARY:Sunday Worship
URL;VALUE=URI:https://www.thepursuitfamily.com/events/sunday-worship/2025-1
 2-21
END:VEVENT
END:VCALENDAR
