BEGIN:VCALENDAR
VERSION:2.0
PRODID:icalendar-ruby
CALSCALE:GREGORIAN
METHOD:PUBLISH
BEGIN:VEVENT
DTSTAMP:20260420T062457Z
UID:5-266138@thepursuitfamily.com
DTSTART:20260215T153000Z
DTEND:20260215T173000Z
CLASS:PUBLIC
CREATED:20260419T230208
DESCRIPTION:Sunday Worship
LAST-MODIFIED:20260419T230208
LOCATION:
SUMMARY:Sunday Worship
URL;VALUE=URI:https://www.thepursuitfamily.com/events/sunday-worship/2026-0
 2-15
END:VEVENT
END:VCALENDAR
