BEGIN:VCALENDAR
VERSION:2.0
PRODID:icalendar-ruby
CALSCALE:GREGORIAN
METHOD:PUBLISH
BEGIN:VEVENT
DTSTAMP:20260420T092039Z
UID:5-266326@thepursuitfamily.com
DTSTART:20260301T153000Z
DTEND:20260301T173000Z
CLASS:PUBLIC
CREATED:20260420T023901
DESCRIPTION:Sunday Worship
LAST-MODIFIED:20260420T023901
LOCATION:
SUMMARY:Sunday Worship
URL;VALUE=URI:https://www.thepursuitfamily.com/events/sunday-worship/2026-0
 3-01
END:VEVENT
END:VCALENDAR
