BEGIN:VCALENDAR
VERSION:2.0
PRODID:icalendar-ruby
CALSCALE:GREGORIAN
METHOD:PUBLISH
BEGIN:VEVENT
DTSTAMP:20260420T110407Z
UID:5-266327@thepursuitfamily.com
DTSTART:20260308T143000Z
DTEND:20260308T163000Z
CLASS:PUBLIC
CREATED:20260420T023901
DESCRIPTION:Sunday Worship
LAST-MODIFIED:20260420T023901
LOCATION:
SUMMARY:Sunday Worship
URL;VALUE=URI:https://www.thepursuitfamily.com/events/sunday-worship/2026-0
 3-08
END:VEVENT
END:VCALENDAR
