BEGIN:VCALENDAR
VERSION:2.0
PRODID:icalendar-ruby
CALSCALE:GREGORIAN
METHOD:PUBLISH
BEGIN:VEVENT
DTSTAMP:20260420T124414Z
UID:5-266514@thepursuitfamily.com
DTSTART:20260315T143000Z
DTEND:20260315T163000Z
CLASS:PUBLIC
CREATED:20260420T073352
DESCRIPTION:Sunday Worship
LAST-MODIFIED:20260420T073352
LOCATION:
SUMMARY:Sunday Worship
URL;VALUE=URI:https://www.thepursuitfamily.com/events/sunday-worship/2026-0
 3-15
END:VEVENT
END:VCALENDAR
