BEGIN:VCALENDAR
VERSION:2.0
PRODID:icalendar-ruby
CALSCALE:GREGORIAN
METHOD:PUBLISH
BEGIN:VEVENT
DTSTAMP:20260420T141356Z
UID:5-266701@thepursuitfamily.com
DTSTART:20260322T143000Z
DTEND:20260322T163000Z
CLASS:PUBLIC
CREATED:20260420T100933
DESCRIPTION:Sunday Worship
LAST-MODIFIED:20260420T100933
LOCATION:
SUMMARY:Sunday Worship
URL;VALUE=URI:https://www.thepursuitfamily.com/events/sunday-worship/2026-0
 3-22
END:VEVENT
END:VCALENDAR
